BEGIN:VCALENDAR
VERSION:2.0
PRODID:-//CEEI Castellón//EmprenemJunts//ES
BEGIN:VEVENT
UID:Evento_17325
DTSTAMP:20200707T173838Z
DTSTART:20200925T123000Z
DTEND:20200925T130000Z
SUMMARY:Visita turÃ­stica por la localidad
DESCRIPTION:
LOCATION:Vistabella del Maestrazgo (CastellÃ³n)
URL:https://ceeicastellon.emprenemjunts.es/?op=14&n=17325
GEO:40.293991;-0.290539
END:VEVENT
END:VCALENDAR
