BEGIN:VCALENDAR
VERSION:2.0
PRODID:-//CEEI Valencia//EmprenemJunts//ES
BEGIN:VEVENT
UID:Evento_17357
DTSTAMP:20200715T075834Z
DTSTART:20200721T170000Z
DTEND:20200721T183000Z
SUMMARY:¿Cómo pueden las políticas municipales dinamizar la economía tras la crisis sanitaria?
DESCRIPTION:Seminario Web
LOCATION:Ibi (Alicante)
URL:https://ceeivalencia.emprenemjunts.es/?op=14&n=17357
END:VEVENT
END:VCALENDAR
