BEGIN:VCALENDAR
VERSION:2.0
PRODID:-//CEEI Castellón//EmprenemJunts//ES
BEGIN:VEVENT
UID:Evento_17381
DTSTAMP:20200721T074922Z
DTSTART:20200925T083000Z
DTEND:20200925T090000Z
SUMMARY:CafÃ© Networking
DESCRIPTION:
LOCATION:Vistabella del Maestrazgo (CastellÃ³n)
URL:https://ceeicastellon.emprenemjunts.es/?op=14&n=17381
GEO:40.293991;-0.290539
END:VEVENT
END:VCALENDAR
