BEGIN:VCALENDAR
VERSION:2.0
PRODID:-//CEEI Castellón//EmprenemJunts//ES
BEGIN:VEVENT
UID:Evento_17385
DTSTAMP:20200721T082807Z
DTSTART:20200925T110000Z
DTEND:20200925T123000Z
SUMMARY:Comida networking
DESCRIPTION:
LOCATION:Vistabella del Maestrazgo (CastellÃ³n)
URL:https://ceeicastellon.emprenemjunts.es/?op=14&n=17385
GEO:40.293991;-0.290539
END:VEVENT
END:VCALENDAR
