BEGIN:VCALENDAR
VERSION:2.0
PRODID:-//CEEI Castellón//EmprenemJunts//ES
BEGIN:VEVENT
UID:Evento_17386
DTSTAMP:20200721T083324Z
DTSTART:20200925T070000Z
DTEND:20200925T160000Z
SUMMARY:PararÂ…. Â¡no es una opciÃ³n!. Mancomunitat de Penyagolosa-Pobles del Nord
DESCRIPTION:Vistabella del Maestrat, 25 de septiembre de 2020
LOCATION:Vistabella del Maestrazgo (CastellÃ³n)
URL:https://ceeicastellon.emprenemjunts.es/?op=14&n=17386
GEO:40.293991;-0.290539
END:VEVENT
END:VCALENDAR
