BEGIN:VCALENDAR
VERSION:2.0
PRODID:-//CEEI Castellón//EmprenemJunts//ES
BEGIN:VEVENT
UID:Evento_17387
DTSTAMP:20200721T085808Z
DTSTART:20200925T130000Z
DTEND:20200925T140000Z
SUMMARY:Agentes facilitadores en el territorio
DESCRIPTION:
LOCATION:Vistabella del Maestrazgo (CastellÃ³n)
URL:https://ceeicastellon.emprenemjunts.es/?op=14&n=17387
GEO:40.293991;-0.290539
END:VEVENT
END:VCALENDAR
