BEGIN:VCALENDAR
VERSION:2.0
PRODID:-//CEEI Valencia//EmprenemJunts//ES
BEGIN:VEVENT
UID:Evento_17536
DTSTAMP:20200911T095101Z
DTSTART:20200930T090500Z
DTEND:20200930T091500Z
SUMMARY:Presentación Capital4Startups y Valencia Investors Day
DESCRIPTION:
LOCATION:
URL:https://ceeivalencia.emprenemjunts.es/?op=14&n=17536
END:VEVENT
END:VCALENDAR
