BEGIN:VCALENDAR
VERSION:2.0
PRODID:-//CEEI Alcoy//EmprenemJunts//ES
BEGIN:VEVENT
UID:Evento_17637
DTSTAMP:20200928T073735Z
DTSTART:20201026T183000Z
DTEND:20201029T200000Z
SUMMARY:Cicle de desenvolupament empresarial
DESCRIPTION:Dirigido a Pymes de Banyeres de Mariola
LOCATION:Banyeres de Mariola (Alicante)
URL:https://ceeialcoi.emprenemjunts.es/?op=14&n=17637
GEO:38.715496;-0.655114
END:VEVENT
END:VCALENDAR
