BEGIN:VCALENDAR
VERSION:2.0
PRODID:-//Europa//EmprenemJunts//ES
BEGIN:VEVENT
UID:Evento_17662
DTSTAMP:20201002T110349Z
DTSTART:20201118T090000Z
DTEND:20201120T120000Z
SUMMARY:Emparejamiento de Smart Manufacturing 2020 - Evento Virtual
DESCRIPTION:Oportunidades para conocer a directores, investigadores y organismos públicos que trabajan en el área de Smart Manufacturing e Industria 4.0
LOCATION:
URL:https://europa.emprenemjunts.es/?op=14&n=17662
END:VEVENT
END:VCALENDAR
