BEGIN:VCALENDAR
VERSION:2.0
PRODID:-//CEEI Elche//EmprenemJunts//ES
BEGIN:VEVENT
UID:Evento_17751
DTSTAMP:20201023T101325Z
DTSTART:20201127T090000Z
DTEND:20201127T091500Z
SUMMARY:Apertura Institucional
DESCRIPTION:
LOCATION:
URL:https://ceeielche.emprenemjunts.es/?op=14&n=17751
END:VEVENT
END:VCALENDAR
