BEGIN:VCALENDAR
VERSION:2.0
PRODID:-//CEEI Valencia//EmprenemJunts//ES
BEGIN:VEVENT
UID:Evento_17791
DTSTAMP:20201029T131426Z
DTSTART:20201123T160000Z
DTEND:20201123T173000Z
SUMMARY:Modelos de negocio sostenible: una apuesta necesaria en la nueva era. Casos de éxito
DESCRIPTION:Ciclo Foro Emprendimiento con Talento Economía Circular y Sostenibilidad
LOCATION:
URL:https://ceeivalencia.emprenemjunts.es/?op=14&n=17791
END:VEVENT
END:VCALENDAR
