BEGIN:VCALENDAR
VERSION:2.0
PRODID:-//CEEI Elche//EmprenemJunts//ES
BEGIN:VEVENT
UID:Evento_17813
DTSTAMP:20201104T093651Z
DTSTART:20201109T170000Z
DTEND:20201109T183000Z
SUMMARY:Masterclass Gratuita: \"Descubre cómo tu mente crea experiencias. Estrategia mental\"
DESCRIPTION:Descubre las profundidades de tu mente con esta Masterclass
LOCATION:
URL:https://ceeielche.emprenemjunts.es/?op=14&n=17813
END:VEVENT
END:VCALENDAR
