BEGIN:VCALENDAR
VERSION:2.0
PRODID:-//CEEI Castellón//EmprenemJunts//ES
BEGIN:VEVENT
UID:Evento_17898
DTSTAMP:20201117T101944Z
DTSTART:20201203T110000Z
DTEND:20201203T111000Z
SUMMARY:Apertura Institucional
DESCRIPTION:
LOCATION:
URL:https://ceeicastellon.emprenemjunts.es/?op=14&n=17898
END:VEVENT
END:VCALENDAR
