BEGIN:VCALENDAR
VERSION:2.0
PRODID:-//CEEI Castellón//EmprenemJunts//ES
BEGIN:VEVENT
UID:Evento_17945
DTSTAMP:20201127T110440Z
DTSTART:20201204T090000Z
DTEND:20201204T113000Z
SUMMARY:Investor\'s Day y acto de entrega III ediciÃ³n Premios Ã“rbita.
DESCRIPTION:tendrÃ¡ un formato semipresencial y se emitirÃ¡ on line
LOCATION:los inscritos recibirÃ¡n el link de invitaciÃ³n
URL:https://ceeicastellon.emprenemjunts.es/?op=14&n=17945
END:VEVENT
END:VCALENDAR
