BEGIN:VCALENDAR
VERSION:2.0
PRODID:-//CEEI Valencia//EmprenemJunts//ES
BEGIN:VEVENT
UID:Evento_18136
DTSTAMP:20210202T092057Z
DTSTART:20210415T141500Z
DTEND:20210415T161500Z
SUMMARY:Webinar \"Conecta tu cultura y valores con tu estrategia de negocio\"
DESCRIPTION:Formación gratuita con Miguel Pérez Minguez
LOCATION:
URL:https://ceeivalencia.emprenemjunts.es/?op=14&n=18136
END:VEVENT
END:VCALENDAR
