BEGIN:VCALENDAR
VERSION:2.0
PRODID:-//CEEI Valencia//EmprenemJunts//ES
BEGIN:VEVENT
UID:Evento_18284
DTSTAMP:20210223T104338Z
DTSTART:20210316T083000Z
DTEND:20210316T123000Z
SUMMARY:Cómo establecer el precio de mi producto o servicio
DESCRIPTION:
LOCATION:
URL:https://ceeivalencia.emprenemjunts.es/?op=14&n=18284
END:VEVENT
END:VCALENDAR
