BEGIN:VCALENDAR
VERSION:2.0
PRODID:-//CEEI Valencia//EmprenemJunts//ES
BEGIN:VEVENT
UID:Evento_18327
DTSTAMP:20210304T101745Z
DTSTART:20210311T170000Z
DTEND:20210422T180000Z
SUMMARY:Jornadas Liderazgo de la Mujer Rural y Emprendimiento
DESCRIPTION:Del 11 de marzo al 22 de abril
LOCATION:
URL:https://ceeivalencia.emprenemjunts.es/?op=14&n=18327
END:VEVENT
END:VCALENDAR
