BEGIN:VCALENDAR
VERSION:2.0
PRODID:-//CEEI Castell髇//EmprenemJunts//ES
BEGIN:VEVENT
UID:Evento_18427
DTSTAMP:20210318T095938Z
DTSTART:20210414T073000Z
DTEND:20210423T113000Z
SUMMARY:Seminario pr谩ctico y gratuito: Gesti贸n de Tesorer铆a
DESCRIPTION:Federaci贸n Valenciana de Empresas Cooperativas de Trabajo Asociado
LOCATION:Castell贸 de la Plana/Castell贸n de la Plana (Castell贸n)
URL:https://ceeicastellon.emprenemjunts.es/?op=14&n=18427
END:VEVENT
END:VCALENDAR
