BEGIN:VCALENDAR
VERSION:2.0
PRODID:-//CEEI Castellón//EmprenemJunts//ES
BEGIN:VEVENT
UID:Evento_18697
DTSTAMP:20210506T123736Z
DTSTART:20210623T150000Z
DTEND:20210623T173000Z
SUMMARY:Taller 3. \"Creatividad, nuestra arma secreta para aprovechar la situaciÃ³n y enfocar la estrategia\"
DESCRIPTION:Tercer taller del programa \"Tendencias: QuÃ© estÃ¡ pasando, quÃ© pasarÃ¡ y cÃ³mo podemos adaptarnos para aprovecharlo\"
LOCATION:Orpesa/Oropesa del Mar (CastellÃ³n)
URL:https://ceeicastellon.emprenemjunts.es/?op=14&n=18697
GEO:40.092377;0.137275
END:VEVENT
END:VCALENDAR
