BEGIN:VCALENDAR
VERSION:2.0
PRODID:-//Desarrollo Local//EmprenemJunts//ES
BEGIN:VEVENT
UID:Evento_18897
DTSTAMP:20210604T074454Z
DTSTART:20210712T220000Z
DTEND:20210712T220000Z
SUMMARY:Programa Fórmate AER 2021
DESCRIPTION:Del 8 de junio al 13 de julio
LOCATION:
URL:https://desarrollolocal.emprenemjunts.es/?op=14&n=18897
END:VEVENT
END:VCALENDAR
