BEGIN:VCALENDAR
VERSION:2.0
PRODID:-//Focus Pyme y Emprendimiento//EmprenemJunts//ES
BEGIN:VEVENT
UID:Evento_19007
DTSTAMP:20210625T114701Z
DTSTART:20210716T080000Z
DTEND:20210716T090000Z
SUMMARY:Comité de Organización Semana Focus Pyme Comunitat Valenciana
DESCRIPTION:Agentes Ecosistema programarán las actividades de este ciclo
LOCATION:
URL:https://focuspyme.emprenemjunts.es/?op=14&n=19007
END:VEVENT
END:VCALENDAR
