BEGIN:VCALENDAR
VERSION:2.0
PRODID:-//CEEI Valencia//EmprenemJunts//ES
BEGIN:VEVENT
UID:Evento_19039
DTSTAMP:20210706T110132Z
DTSTART:20210722T170000Z
DTEND:20210722T174500Z
SUMMARY:Cómo Levantar Fondos para tu Startup
DESCRIPTION:Evento de Founder Institute València
LOCATION:
URL:https://ceeivalencia.emprenemjunts.es/?op=14&n=19039
END:VEVENT
END:VCALENDAR
