BEGIN:VCALENDAR
VERSION:2.0
PRODID:-//CEEI Valencia//EmprenemJunts//ES
BEGIN:VEVENT
UID:Evento_19041
DTSTAMP:20210706T114118Z
DTSTART:20210928T163000Z
DTEND:20211019T173000Z
SUMMARY:Curso Certificado Profesional Scrum Master
DESCRIPTION:Curso Tutorizado por Jorge Claveria, Modalidad Online
LOCATION:
URL:https://ceeivalencia.emprenemjunts.es/?op=14&n=19041
END:VEVENT
END:VCALENDAR
