BEGIN:VCALENDAR
VERSION:2.0
PRODID:-//CEEI Valencia//EmprenemJunts//ES
BEGIN:VEVENT
UID:Evento_19080
DTSTAMP:20210715T082517Z
DTSTART:20210929T133000Z
DTEND:20210929T143000Z
SUMMARY:Curso de marketing online para lanzar tu idea
DESCRIPTION:UVemprén CAMPUS - Santander Universidades
LOCATION:
URL:https://ceeivalencia.emprenemjunts.es/?op=14&n=19080
END:VEVENT
END:VCALENDAR
