BEGIN:VCALENDAR
VERSION:2.0
PRODID:-//Emprenemjunts//EmprenemJunts//ES
BEGIN:VEVENT
UID:Evento_19104
DTSTAMP:20210729T100715Z
DTSTART:20211005T080000Z
DTEND:20211005T110000Z
SUMMARY:Webinar Llamp Ames y ACELERACIÓN 3I:  La digitalización del comportamiento del consumidor a través del 
neuromarketing
DESCRIPTION:
LOCATION:
URL:https://www.emprenemjunts.es/?op=14&n=19104
END:VEVENT
END:VCALENDAR
