BEGIN:VCALENDAR
VERSION:2.0
PRODID:-//CEEI Castellón//EmprenemJunts//ES
BEGIN:VEVENT
UID:Evento_19228
DTSTAMP:20210917T101256Z
DTSTART:20210925T143000Z
DTEND:20210925T173000Z
SUMMARY:Jornada EmprÃ¨n Jove
DESCRIPTION:Oportunitats d\'empendre al mÃ³n rural
LOCATION:Ares del Maestre (CastellÃ³n)
URL:https://ceeicastellon.emprenemjunts.es/?op=14&n=19228
END:VEVENT
END:VCALENDAR
