BEGIN:VCALENDAR
VERSION:2.0
PRODID:-//CEEI Elche//EmprenemJunts//ES
BEGIN:VEVENT
UID:Evento_19301
DTSTAMP:20211005T092813Z
DTSTART:20211119T100000Z
DTEND:20211119T110000Z
SUMMARY:Webinar BIK: Aplicación de la metodología BIK Scale. Sesión 2
DESCRIPTION:Casos empresariales de innovación abierta
LOCATION:
URL:https://ceeielche.emprenemjunts.es/?op=14&n=19301
END:VEVENT
END:VCALENDAR
