BEGIN:VCALENDAR
VERSION:2.0
PRODID:-//CEEI Valencia//EmprenemJunts//ES
BEGIN:VEVENT
UID:Evento_19354
DTSTAMP:20211014T090623Z
DTSTART:20211129T080000Z
DTEND:20211129T093000Z
SUMMARY:Cómo ser (de verdad) la mejor opción de compra para tus clientes
DESCRIPTION:Online para agentes del ecosistema emprendedor
LOCATION:
URL:https://ceeivalencia.emprenemjunts.es/?op=14&n=19354
END:VEVENT
END:VCALENDAR
