BEGIN:VCALENDAR
VERSION:2.0
PRODID:-//CEEI Castellón//EmprenemJunts//ES
BEGIN:VEVENT
UID:Evento_19406
DTSTAMP:20211021T070158Z
DTSTART:20211027T140000Z
DTEND:20211027T160000Z
SUMMARY:ReuniÃ³n anual & Encuentro de Networking de Xarxatec
DESCRIPTION:
LOCATION:CastellÃ³ de la Plana/CastellÃ³n de la Plana (CastellÃ³n)
URL:https://ceeicastellon.emprenemjunts.es/?op=14&n=19406
END:VEVENT
END:VCALENDAR
