BEGIN:VCALENDAR
VERSION:2.0
PRODID:-//CEEI Valencia//EmprenemJunts//ES
BEGIN:VEVENT
UID:Evento_19470
DTSTAMP:20211027T093948Z
DTSTART:20211124T084500Z
DTEND:20211124T090000Z
SUMMARY:Resultados del Programa de Fortalecimiento de Agentes Ecosistema Emprendimiento de la Comunitat Valenciana
DESCRIPTION:
LOCATION:Valencia (Valencia)
URL:https://ceeivalencia.emprenemjunts.es/?op=14&n=19470
GEO:39.474270;-0.376740
END:VEVENT
END:VCALENDAR
