BEGIN:VCALENDAR
VERSION:2.0
PRODID:-//CEEI Valencia//EmprenemJunts//ES
BEGIN:VEVENT
UID:Evento_19771
DTSTAMP:20220112T173702Z
DTSTART:20220214T083000Z
DTEND:20220303T123000Z
SUMMARY:GANDIA EMPRÉN
DESCRIPTION:Programa de capacitación para emprender
LOCATION:Gandia (Valencia)
URL:https://ceeivalencia.emprenemjunts.es/?op=14&n=19771
GEO:38.964405;-0.181937
END:VEVENT
END:VCALENDAR
