BEGIN:VCALENDAR
VERSION:2.0
PRODID:-//CEEI Valencia//EmprenemJunts//ES
BEGIN:VEVENT
UID:Evento_19840
DTSTAMP:20220127T080228Z
DTSTART:20220201T173000Z
DTEND:20220201T183000Z
SUMMARY:¿Cómo conseguir, hablar y Convencer a Inversionistas para tu Startup?
DESCRIPTION:El 1 de febrero de 2022
LOCATION:
URL:https://ceeivalencia.emprenemjunts.es/?op=14&n=19840
END:VEVENT
END:VCALENDAR
