BEGIN:VCALENDAR
VERSION:2.0
PRODID:-//CEEI Valencia//EmprenemJunts//ES
BEGIN:VEVENT
UID:Evento_20013
DTSTAMP:20220228T151829Z
DTSTART:20220504T073000Z
DTEND:20220504T090000Z
SUMMARY:Cómo ayudar a los emprendedores y empresas a vender
DESCRIPTION:Programa Online de Capacitación de Agentes del Ecosistema de Emprendimiento de la Comunitat Valenciana
LOCATION:
URL:https://ceeivalencia.emprenemjunts.es/?op=14&n=20013
END:VEVENT
END:VCALENDAR
