BEGIN:VCALENDAR
VERSION:2.0
PRODID:-//Páginas naranja//EmprenemJunts//ES
BEGIN:VEVENT
UID:Evento_20173
DTSTAMP:20220402T165431Z
DTSTART:20220414T060000Z
DTEND:20220417T215900Z
SUMMARY:Retiro Semana Santa mindfulness
DESCRIPTION:Senderismo, yoga, ayurveda, coaching
LOCATION:Granada (Granada)
URL:https://paginasnaranja.emprenemjunts.es/?op=14&n=20173
GEO:37.483776;-3.034391
END:VEVENT
END:VCALENDAR
