BEGIN:VCALENDAR
VERSION:2.0
PRODID:-//CEEI Valencia//EmprenemJunts//ES
BEGIN:VEVENT
UID:Evento_20242
DTSTAMP:20220420T150115Z
DTSTART:20220524T083000Z
DTEND:20220524T093000Z
SUMMARY:Speed Networking 666
DESCRIPTION:Sesión dinámica de networking con Equipo Humano
LOCATION:Algemesí (Valencia)
URL:https://ceeivalencia.emprenemjunts.es/?op=14&n=20242
GEO:39.197643;-0.432352
END:VEVENT
END:VCALENDAR
