BEGIN:VCALENDAR
VERSION:2.0
PRODID:-//CEEI Alcoy//EmprenemJunts//ES
BEGIN:VEVENT
UID:Evento_20337
DTSTAMP:20220502T112149Z
DTSTART:20220519T103000Z
DTEND:20220519T123000Z
SUMMARY:IDEAS UPV Challenge SmartCity
DESCRIPTION:19 de mayo de 2022
LOCATION:Gandia (Valencia)
URL:https://ceeialcoi.emprenemjunts.es/?op=14&n=20337
GEO:38.996826;-0.166092
END:VEVENT
END:VCALENDAR
