BEGIN:VCALENDAR
VERSION:2.0
PRODID:-//CEEI Elche//EmprenemJunts//ES
BEGIN:VEVENT
UID:Evento_20341
DTSTAMP:20220503T092654Z
DTSTART:20220526T075000Z
DTEND:20220526T110000Z
SUMMARY:Inauguración y apertura de la exposición
DESCRIPTION:
LOCATION:Elx/Elche (Alicante)
URL:https://ceeielche.emprenemjunts.es/?op=14&n=20341
GEO:38.263744;-0.695678
END:VEVENT
END:VCALENDAR
