BEGIN:VCALENDAR
VERSION:2.0
PRODID:-//CEEI Alcoy//EmprenemJunts//ES
BEGIN:VEVENT
UID:Evento_20380
DTSTAMP:20220509T095956Z
DTSTART:20220531T071500Z
DTEND:20220531T093000Z
SUMMARY:Nuevos retos empresariales: sinergias territoriales y sostenibilidad
DESCRIPTION:Focus Pyme y Emprendimiento Vall d\'Albaida
LOCATION:Ontinyent (Valencia)
URL:https://ceeialcoi.emprenemjunts.es/?op=14&n=20380
GEO:38.826527;-0.589995
END:VEVENT
END:VCALENDAR
