BEGIN:VCALENDAR
VERSION:2.0
PRODID:-//CEEI Alcoy//EmprenemJunts//ES
BEGIN:VEVENT
UID:Evento_20388
DTSTAMP:20220509T114714Z
DTSTART:20220531T071500Z
DTEND:20220531T073000Z
SUMMARY:Café networking
DESCRIPTION:
LOCATION:Ontinyent (Valencia)
URL:https://ceeialcoi.emprenemjunts.es/?op=14&n=20388
GEO:38.826527;-0.589995
END:VEVENT
END:VCALENDAR
