BEGIN:VCALENDAR
VERSION:2.0
PRODID:-//CEEI Elche//EmprenemJunts//ES
BEGIN:VEVENT
UID:Evento_20466
DTSTAMP:20220523T075007Z
DTSTART:20220615T113000Z
DTEND:20220615T123000Z
SUMMARY:Mesa redonda: Buenas prácticas de las asociaciones empresariales para el sector comercial
DESCRIPTION:
LOCATION:Elda (Alicante)
URL:https://ceeielche.emprenemjunts.es/?op=14&n=20466
GEO:38.473988;-0.795367
END:VEVENT
END:VCALENDAR
