BEGIN:VCALENDAR
VERSION:2.0
PRODID:-//CEEI Valencia//EmprenemJunts//ES
BEGIN:VEVENT
UID:Evento_20654
DTSTAMP:20220622T073517Z
DTSTART:20220713T092000Z
DTEND:20220713T100000Z
SUMMARY:Innovación Abierta. ¿Qué? ¿Cómo? ¿Para quién?
DESCRIPTION:
LOCATION:Paterna (Valencia)
URL:https://ceeivalencia.emprenemjunts.es/?op=14&n=20654
GEO:39.548115;-0.460775
END:VEVENT
END:VCALENDAR
