BEGIN:VCALENDAR
VERSION:2.0
PRODID:-//CEEI Valencia//EmprenemJunts//ES
BEGIN:VEVENT
UID:Evento_20743
DTSTAMP:20220718T145213Z
DTSTART:20220719T163000Z
DTEND:20220719T180000Z
SUMMARY:¿Cómo Venderte y Vender tu Startup? con Mar Domínguez y Jonatan Loidi
DESCRIPTION:
LOCATION:
URL:https://ceeivalencia.emprenemjunts.es/?op=14&n=20743
END:VEVENT
END:VCALENDAR
