BEGIN:VCALENDAR
VERSION:2.0
PRODID:-//CEEI Valencia//EmprenemJunts//ES
BEGIN:VEVENT
UID:Evento_20747
DTSTAMP:20220720T113853Z
DTSTART:20220726T073000Z
DTEND:20220726T083000Z
SUMMARY:\"Costes laborales y encuadramiento en la Seguridad Social en las Sociedades Laborales\"
DESCRIPTION:No olvides añadirlo en tu agenda
LOCATION:
URL:https://ceeivalencia.emprenemjunts.es/?op=14&n=20747
END:VEVENT
END:VCALENDAR
