BEGIN:VCALENDAR
VERSION:2.0
PRODID:-//CEEI Castellón//EmprenemJunts//ES
BEGIN:VEVENT
UID:Evento_20865
DTSTAMP:20220911T114203Z
DTSTART:20221020T071500Z
DTEND:20221020T074500Z
SUMMARY:IntroducciÃ³n evento: Oportunidades de innovaciÃ³n en las economÃ­as actuales
DESCRIPTION:
LOCATION:Orpesa/Oropesa del Mar (CastellÃ³n)
URL:https://ceeicastellon.emprenemjunts.es/?op=14&n=20865
GEO:40.092148;0.130308
END:VEVENT
END:VCALENDAR
