BEGIN:VCALENDAR
VERSION:2.0
PRODID:-//CEEI Valencia//EmprenemJunts//ES
BEGIN:VEVENT
UID:Evento_20949
DTSTAMP:20220929T071925Z
DTSTART:20221020T160000Z
DTEND:20221020T170000Z
SUMMARY:Webinar OKR Certificado ProfesionaI. Todo acerca del programa
DESCRIPTION:Conoce todo acerca sobre este certificado que regresa a una segunda edición.
LOCATION:
URL:https://ceeivalencia.emprenemjunts.es/?op=14&n=20949
END:VEVENT
END:VCALENDAR
