BEGIN:VCALENDAR
VERSION:2.0
PRODID:-//CEEI Valencia//EmprenemJunts//ES
BEGIN:VEVENT
UID:Evento_20950
DTSTAMP:20220929T073237Z
DTSTART:20221026T160000Z
DTEND:20221026T170000Z
SUMMARY:Webinar OKR Certificado Profesional.  Q&A preguntas y respuestas
DESCRIPTION:
LOCATION:
URL:https://ceeivalencia.emprenemjunts.es/?op=14&n=20950
END:VEVENT
END:VCALENDAR
