BEGIN:VCALENDAR
VERSION:2.0
PRODID:-//CEEI Elche//EmprenemJunts//ES
BEGIN:VEVENT
UID:Evento_20967
DTSTAMP:20221003T140728Z
DTSTART:20221013T080000Z
DTEND:20221013T103000Z
SUMMARY:Presentación del Programa Activa Startups en Alicante
DESCRIPTION:La jornada está organizada por el Parque Científico de la UA y CEEI Elche
LOCATION:Sant Vicent del Raspeig/San Vicente del Raspeig (Alicante)
URL:https://ceeielche.emprenemjunts.es/?op=14&n=20967
GEO:38.381363;-0.524705
END:VEVENT
END:VCALENDAR
