BEGIN:VCALENDAR
VERSION:2.0
PRODID:-//CEEI Valencia//EmprenemJunts//ES
BEGIN:VEVENT
UID:Evento_21155
DTSTAMP:20221107T122727Z
DTSTART:20221122T084500Z
DTEND:20221122T090000Z
SUMMARY:Apertura puertas y acreditación
DESCRIPTION:
LOCATION:Valencia (Valencia)
URL:https://ceeivalencia.emprenemjunts.es/?op=14&n=21155
GEO:39.461288;-0.323815
END:VEVENT
END:VCALENDAR
