BEGIN:VCALENDAR
VERSION:2.0
PRODID:-//CEEI Valencia//EmprenemJunts//ES
BEGIN:VEVENT
UID:Evento_21171
DTSTAMP:20221110T094110Z
DTSTART:20221123T084500Z
DTEND:20221123T090000Z
SUMMARY:Apertura y acreditación
DESCRIPTION:
LOCATION:Valencia (Valencia)
URL:https://ceeivalencia.emprenemjunts.es/?op=14&n=21171
GEO:39.444336;-0.374199
END:VEVENT
END:VCALENDAR
