BEGIN:VCALENDAR
VERSION:2.0
PRODID:-//CEEI Valencia//EmprenemJunts//ES
BEGIN:VEVENT
UID:Evento_21175
DTSTAMP:20221110T094428Z
DTSTART:20221123T091500Z
DTEND:20221123T100000Z
SUMMARY:Tecnología e investigación aplicadas a la salud mental
DESCRIPTION:
LOCATION:Valencia (Valencia)
URL:https://ceeivalencia.emprenemjunts.es/?op=14&n=21175
GEO:39.444336;-0.374199
END:VEVENT
END:VCALENDAR
